BEGIN:VCALENDAR
VERSION:2.0
PRODID:-//Emberton Parish Council//Meeting Calendar//EN
CALSCALE:GREGORIAN
METHOD:PUBLISH
BEGIN:VEVENT
UID:71899-20260302@embertonparishcouncil.gov.uk
DTSTAMP:20260421T080936Z
DTSTART;VALUE=DATE:20260302
DTEND;VALUE=DATE:20260303
SUMMARY:Parish Council Meeting
DESCRIPTION:Full Council Meeting\nView details: https://embertonparishcouncil.gov.uk/meetings/parish-council-meeting/
URL:https://embertonparishcouncil.gov.uk/meetings/parish-council-meeting/
END:VEVENT
END:VCALENDAR
